Package: epimutacions Version: 1.2.0 Command: /Library/Frameworks/R.framework/Resources/bin/R CMD build --keep-empty-dirs --no-resave-data epimutacions StartedAt: 2023-04-17 05:36:43 -0400 (Mon, 17 Apr 2023) EndedAt: 2023-04-17 05:42:17 -0400 (Mon, 17 Apr 2023) EllapsedTime: 334.3 seconds RetCode: 0 Status: OK PackageFile: epimutacions_1.2.0.tar.gz PackageFileSize: 1.726 MiB