Package: epivizrChart Version: 1.20.0 Command: rm -rf epivizrChart.buildbin-libdir && mkdir epivizrChart.buildbin-libdir && /Users/biocbuild/BBS/utils/build-universal.sh epivizrChart_1.20.0.tar.gz /Library/Frameworks/R.framework/Resources/bin/R epivizrChart.buildbin-libdir StartedAt: 2023-04-18 15:34:48 -0400 (Tue, 18 Apr 2023) EndedAt: 2023-04-18 15:36:46 -0400 (Tue, 18 Apr 2023) EllapsedTime: 118.7 seconds RetCode: 0 Status: OK PackageFile: epivizrChart_1.20.0.tgz PackageFileSize: 6.419 MiB