Package: erccdashboard Version: 1.32.0 Command: rm -rf erccdashboard.buildbin-libdir && mkdir erccdashboard.buildbin-libdir && /Users/biocbuild/BBS/utils/build-universal.sh erccdashboard_1.32.0.tar.gz /Library/Frameworks/R.framework/Resources/bin/R erccdashboard.buildbin-libdir StartedAt: 2023-04-18 15:36:27 -0400 (Tue, 18 Apr 2023) EndedAt: 2023-04-18 15:36:52 -0400 (Tue, 18 Apr 2023) EllapsedTime: 24.9 seconds RetCode: 0 Status: OK PackageFile: erccdashboard_1.32.0.tgz PackageFileSize: 2.51 MiB