Package: evaluomeR Version: 1.14.0 Command: rm -rf evaluomeR.buildbin-libdir && mkdir evaluomeR.buildbin-libdir && /Users/biocbuild/BBS/utils/build-universal.sh evaluomeR_1.14.0.tar.gz /Library/Frameworks/R.framework/Resources/bin/R evaluomeR.buildbin-libdir StartedAt: 2023-04-18 15:38:29 -0400 (Tue, 18 Apr 2023) EndedAt: 2023-04-18 15:39:46 -0400 (Tue, 18 Apr 2023) EllapsedTime: 76.9 seconds RetCode: 0 Status: OK PackageFile: evaluomeR_1.14.0.tgz PackageFileSize: 935.7 KiB