Package: evaluomeR Version: 1.14.0 Command: /Library/Frameworks/R.framework/Resources/bin/R CMD build --keep-empty-dirs --no-resave-data evaluomeR StartedAt: 2023-04-17 05:53:37 -0400 (Mon, 17 Apr 2023) EndedAt: 2023-04-17 05:54:53 -0400 (Mon, 17 Apr 2023) EllapsedTime: 76.0 seconds RetCode: 0 Status: OK PackageFile: evaluomeR_1.14.0.tar.gz PackageFileSize: 778.2 KiB