Package: evaluomeR Version: 1.14.0 Command: /Library/Frameworks/R.framework/Resources/bin/R CMD INSTALL evaluomeR StartedAt: 2023-04-16 18:51:25 -0400 (Sun, 16 Apr 2023) EndedAt: 2023-04-16 18:52:20 -0400 (Sun, 16 Apr 2023) EllapsedTime: 55.0 seconds RetCode: 0 Status: OK