Package: exomePeak2 Version: 1.10.0 Command: rm -rf exomePeak2.buildbin-libdir && mkdir exomePeak2.buildbin-libdir && /Users/biocbuild/BBS/utils/build-universal.sh exomePeak2_1.10.0.tar.gz /Library/Frameworks/R.framework/Resources/bin/R exomePeak2.buildbin-libdir StartedAt: 2023-04-18 15:40:45 -0400 (Tue, 18 Apr 2023) EndedAt: 2023-04-18 15:42:28 -0400 (Tue, 18 Apr 2023) EllapsedTime: 102.9 seconds RetCode: 0 Status: OK PackageFile: exomePeak2_1.10.0.tgz PackageFileSize: 2.334 MiB