Package: exomePeak2 Version: 1.10.0 Command: /Library/Frameworks/R.framework/Resources/bin/R CMD build --keep-empty-dirs --no-resave-data exomePeak2 StartedAt: 2023-04-17 05:59:16 -0400 (Mon, 17 Apr 2023) EndedAt: 2023-04-17 06:00:50 -0400 (Mon, 17 Apr 2023) EllapsedTime: 93.5 seconds RetCode: 0 Status: OK PackageFile: exomePeak2_1.10.0.tar.gz PackageFileSize: 2.274 MiB