Package: exomePeak2 Version: 1.10.0 Command: /Library/Frameworks/R.framework/Resources/bin/R CMD INSTALL exomePeak2 StartedAt: 2023-04-16 18:12:55 -0400 (Sun, 16 Apr 2023) EndedAt: 2023-04-16 18:14:04 -0400 (Sun, 16 Apr 2023) EllapsedTime: 68.7 seconds RetCode: 0 Status: OK