Package: fastseg Version: 1.44.0 Command: /Library/Frameworks/R.framework/Resources/bin/R CMD INSTALL fastseg StartedAt: 2023-04-16 14:27:52 -0400 (Sun, 16 Apr 2023) EndedAt: 2023-04-16 14:28:16 -0400 (Sun, 16 Apr 2023) EllapsedTime: 24.1 seconds RetCode: 0 Status: OK