Back to Mac ARM64 build report for BioC 3.16 |
|
This page was generated on 2023-04-19 11:01:48 -0400 (Wed, 19 Apr 2023).
Hostname | OS | Arch (*) | R version | Installed pkgs |
---|---|---|---|---|
kjohnson | macOS 13.0 Ventura | arm64 | 4.2.2 (2022-10-31) -- "Innocent and Trusting" | 4256 |
Click on any hostname to see more info about the system (e.g. compilers) (*) as reported by 'uname -p', except on Windows and Mac OS X |
To the developers/maintainers of the fgsea package: Make sure to use the following settings in order to reproduce any error or warning you see on this page. |
Package 675/2183 | Hostname | OS / Arch | INSTALL | BUILD | BUILD BIN | ||||||||
fgsea 1.24.0 (landing page) Alexey Sergushichev
| kjohnson | macOS 13.0 Ventura / arm64 | OK | OK | OK | ||||||||
QUICK STATS | OS / Arch | INSTALL | BUILD | BUILD BIN | |||||||||||||
kjohnson | macOS 13.0 Ventura / arm64 |
|
|
| |||||||||||||
Package 1/23 | Hostname | OS / Arch | INSTALL | BUILD | BUILD BIN | ||||||||||||
ASpediaFI 1.12.0 (landing page) Doyeong Yu
| kjohnson | macOS 13.0 Ventura / arm64 | ERROR | ERROR | skipped | ||||||||||||
Package 2/23 | Hostname | OS / Arch | INSTALL | BUILD | BUILD BIN | ||||||||||||
ATACCoGAPS 1.0.0 (landing page) Rossin Erbe
| kjohnson | macOS 13.0 Ventura / arm64 | ERROR | ERROR | skipped | ||||||||||||
Package 3/23 | Hostname | OS / Arch | INSTALL | BUILD | BUILD BIN | ||||||||||||
BioNAR 1.0.0 (landing page) Anatoly Sorokin
| kjohnson | macOS 13.0 Ventura / arm64 | OK | OK | OK | ||||||||||||
Package 4/23 | Hostname | OS / Arch | INSTALL | BUILD | BUILD BIN | ||||||||||||
CelliD 1.6.2 (landing page) Akira Cortal
| kjohnson | macOS 13.0 Ventura / arm64 | OK | OK | OK | ||||||||||||
Package 5/23 | Hostname | OS / Arch | INSTALL | BUILD | BUILD BIN | ||||||||||||
CEMiTool 1.22.0 (landing page) Helder Nakaya
| kjohnson | macOS 13.0 Ventura / arm64 | OK | OK | OK | ||||||||||||
Package 6/23 | Hostname | OS / Arch | INSTALL | BUILD | BUILD BIN | ||||||||||||
clustifyr 1.10.0 (landing page) Kent Riemondy
| kjohnson | macOS 13.0 Ventura / arm64 | OK | OK | OK | ||||||||||||
Package 7/23 | Hostname | OS / Arch | INSTALL | BUILD | BUILD BIN | ||||||||||||
cTRAP 1.16.0 (landing page) Nuno Saraiva-Agostinho
| kjohnson | macOS 13.0 Ventura / arm64 | OK | OK | OK | ||||||||||||
Package 8/23 | Hostname | OS / Arch | INSTALL | BUILD | BUILD BIN | ||||||||||||
DOSE 3.24.2 (landing page) Guangchuang Yu
| kjohnson | macOS 13.0 Ventura / arm64 | OK | OK | OK | ||||||||||||
Package 9/23 | Hostname | OS / Arch | INSTALL | BUILD | BUILD BIN | ||||||||||||
EventPointer 3.6.0 (landing page) Juan A. Ferrer-Bonsoms
| kjohnson | macOS 13.0 Ventura / arm64 | OK | OK | OK | ||||||||||||
Package 10/23 | Hostname | OS / Arch | INSTALL | BUILD | BUILD BIN | ||||||||||||
fobitools 1.6.0 (landing page) Pol Castellano-Escuder
| kjohnson | macOS 13.0 Ventura / arm64 | OK | OK | OK | ||||||||||||
Package 11/23 | Hostname | OS / Arch | INSTALL | BUILD | BUILD BIN | ||||||||||||
gsean 1.18.0 (landing page) Dongmin Jung
| kjohnson | macOS 13.0 Ventura / arm64 | OK | OK | OK | ||||||||||||
Package 12/23 | Hostname | OS / Arch | INSTALL | BUILD | BUILD BIN | ||||||||||||
lipidr 2.12.0 (landing page) Ahmed Mohamed
| kjohnson | macOS 13.0 Ventura / arm64 | OK | OK | OK | ||||||||||||
Package 13/23 | Hostname | OS / Arch | INSTALL | BUILD | BUILD BIN | ||||||||||||
mCSEA 1.18.0 (landing page) Jordi Martorell-Marugán
| kjohnson | macOS 13.0 Ventura / arm64 | OK | OK | OK | ||||||||||||
Package 14/23 | Hostname | OS / Arch | INSTALL | BUILD | BUILD BIN | ||||||||||||
metapone 1.4.0 (landing page) Tianwei Yu
| kjohnson | macOS 13.0 Ventura / arm64 | OK | OK | OK | ||||||||||||
Package 15/23 | Hostname | OS / Arch | INSTALL | BUILD | BUILD BIN | ||||||||||||
multiGSEA 1.8.3 (landing page) Sebastian Canzler
| kjohnson | macOS 13.0 Ventura / arm64 | OK | OK | OK | ||||||||||||
Package 16/23 | Hostname | OS / Arch | INSTALL | BUILD | BUILD BIN | ||||||||||||
NanoTube 1.4.0 (landing page) Caleb Class
| kjohnson | macOS 13.0 Ventura / arm64 | OK | OK | OK | ||||||||||||
Package 17/23 | Hostname | OS / Arch | INSTALL | BUILD | BUILD BIN | ||||||||||||
omicsViewer 1.2.0 (landing page) Chen Meng
| kjohnson | macOS 13.0 Ventura / arm64 | OK | OK | OK | ||||||||||||
Package 18/23 | Hostname | OS / Arch | INSTALL | BUILD | BUILD BIN | ||||||||||||
phantasus 1.18.4 (landing page) Alexey Sergushichev
| kjohnson | macOS 13.0 Ventura / arm64 | OK | OK | OK | ||||||||||||
Package 19/23 | Hostname | OS / Arch | INSTALL | BUILD | BUILD BIN | ||||||||||||
piano 2.14.0 (landing page) Leif Varemo Wigge
| kjohnson | macOS 13.0 Ventura / arm64 | OK | OK | OK | ||||||||||||
Package 20/23 | Hostname | OS / Arch | INSTALL | BUILD | BUILD BIN | ||||||||||||
PPInfer 1.24.2 (landing page) Dongmin Jung
| kjohnson | macOS 13.0 Ventura / arm64 | OK | OK | OK | ||||||||||||
Package 21/23 | Hostname | OS / Arch | INSTALL | BUILD | BUILD BIN | ||||||||||||
RegEnrich 1.8.0 (landing page) Weiyang Tao
| kjohnson | macOS 13.0 Ventura / arm64 | OK | OK | OK | ||||||||||||
Package 22/23 | Hostname | OS / Arch | INSTALL | BUILD | BUILD BIN | ||||||||||||
signatureSearch 1.12.0 (landing page) Brendan Gongol
| kjohnson | macOS 13.0 Ventura / arm64 | OK | OK | OK | ||||||||||||
Package 23/23 | Hostname | OS / Arch | INSTALL | BUILD | BUILD BIN | ||||||||||||
ViSEAGO 1.12.0 (landing page) Aurelien Brionne
| kjohnson | macOS 13.0 Ventura / arm64 | OK | OK | OK | ||||||||||||