Package: flowClust Version: 3.36.1 Command: rm -rf flowClust.buildbin-libdir && mkdir flowClust.buildbin-libdir && /Users/biocbuild/BBS/utils/build-universal.sh flowClust_3.36.1.tar.gz /Library/Frameworks/R.framework/Resources/bin/R flowClust.buildbin-libdir StartedAt: 2023-04-18 15:47:25 -0400 (Tue, 18 Apr 2023) EndedAt: 2023-04-18 15:53:31 -0400 (Tue, 18 Apr 2023) EllapsedTime: 366.5 seconds RetCode: 0 Status: OK PackageFile: flowClust_3.36.1.tgz PackageFileSize: 1.32 MiB