Package: flowCut Version: 1.8.0 Command: rm -rf flowCut.buildbin-libdir && mkdir flowCut.buildbin-libdir && /Users/biocbuild/BBS/utils/build-universal.sh flowCut_1.8.0.tar.gz /Library/Frameworks/R.framework/Resources/bin/R flowCut.buildbin-libdir StartedAt: 2023-04-18 15:47:34 -0400 (Tue, 18 Apr 2023) EndedAt: 2023-04-18 15:48:18 -0400 (Tue, 18 Apr 2023) EllapsedTime: 43.5 seconds RetCode: 0 Status: OK PackageFile: flowCut_1.8.0.tgz PackageFileSize: 7.024 MiB