Package: flowCut Version: 1.8.0 Command: /Library/Frameworks/R.framework/Resources/bin/R CMD INSTALL flowCut StartedAt: 2023-04-16 15:37:49 -0400 (Sun, 16 Apr 2023) EndedAt: 2023-04-16 15:38:18 -0400 (Sun, 16 Apr 2023) EllapsedTime: 29.0 seconds RetCode: 0 Status: OK