Package: flowMeans Version: 1.58.0 Command: /Library/Frameworks/R.framework/Resources/bin/R CMD build --keep-empty-dirs --no-resave-data flowMeans StartedAt: 2023-04-17 06:45:32 -0400 (Mon, 17 Apr 2023) EndedAt: 2023-04-17 06:46:05 -0400 (Mon, 17 Apr 2023) EllapsedTime: 33.2 seconds RetCode: 0 Status: OK PackageFile: flowMeans_1.58.0.tar.gz PackageFileSize: 3.284 MiB