Package: fobitools Version: 1.6.0 Command: rm -rf fobitools.buildbin-libdir && mkdir fobitools.buildbin-libdir && /Users/biocbuild/BBS/utils/build-universal.sh fobitools_1.6.0.tar.gz /Library/Frameworks/R.framework/Resources/bin/R fobitools.buildbin-libdir StartedAt: 2023-04-18 15:51:30 -0400 (Tue, 18 Apr 2023) EndedAt: 2023-04-18 15:51:57 -0400 (Tue, 18 Apr 2023) EllapsedTime: 27.2 seconds RetCode: 0 Status: OK PackageFile: fobitools_1.6.0.tgz PackageFileSize: 3.63 MiB