Back to Mac ARM64 build report for BioC 3.16 |
|
This page was generated on 2023-04-19 11:01:48 -0400 (Wed, 19 Apr 2023).
Hostname | OS | Arch (*) | R version | Installed pkgs |
---|---|---|---|---|
kjohnson | macOS 13.0 Ventura | arm64 | 4.2.2 (2022-10-31) -- "Innocent and Trusting" | 4256 |
Click on any hostname to see more info about the system (e.g. compilers) (*) as reported by 'uname -p', except on Windows and Mac OS X |
To the developers/maintainers of the gcrma package: Make sure to use the following settings in order to reproduce any error or warning you see on this page. |
Package 741/2183 | Hostname | OS / Arch | INSTALL | BUILD | BUILD BIN | ||||||||
gcrma 2.70.0 (landing page) Z. Wu
| kjohnson | macOS 13.0 Ventura / arm64 | OK | OK | OK | ![]() | |||||||
QUICK STATS | OS / Arch | INSTALL | BUILD | BUILD BIN | |||||||||||||
kjohnson | macOS 13.0 Ventura / arm64 |
|
|
| |||||||||||||
Package 1/8 | Hostname | OS / Arch | INSTALL | BUILD | BUILD BIN | ||||||||||||
affycoretools 1.70.0 (landing page) James W. MacDonald
| kjohnson | macOS 13.0 Ventura / arm64 | OK | OK | OK | ![]() | |||||||||||
Package 2/8 | Hostname | OS / Arch | INSTALL | BUILD | BUILD BIN | ||||||||||||
affyILM 1.50.0 (landing page) Myriam Kroll and Fabrice Berger
| kjohnson | macOS 13.0 Ventura / arm64 | OK | OK | OK | ![]() | |||||||||||
Package 3/8 | Hostname | OS / Arch | INSTALL | BUILD | BUILD BIN | ||||||||||||
affylmGUI 1.72.0 (landing page) Gordon Smyth
| kjohnson | macOS 13.0 Ventura / arm64 | OK | OK | OK | ![]() | |||||||||||
Package 4/8 | Hostname | OS / Arch | INSTALL | BUILD | BUILD BIN | ||||||||||||
affyPLM 1.74.2 (landing page) Ben Bolstad
| kjohnson | macOS 13.0 Ventura / arm64 | OK | OK | OK | ![]() | |||||||||||
Package 5/8 | Hostname | OS / Arch | INSTALL | BUILD | BUILD BIN | ||||||||||||
bgx 1.64.0 (landing page) Ernest Turro
| kjohnson | macOS 13.0 Ventura / arm64 | OK | OK | OK | ![]() | |||||||||||
Package 6/8 | Hostname | OS / Arch | INSTALL | BUILD | BUILD BIN | ||||||||||||
maPredictDSC 1.36.0 (landing page) Adi Laurentiu Tarca
| kjohnson | macOS 13.0 Ventura / arm64 | OK | OK | OK | ![]() | |||||||||||
Package 7/8 | Hostname | OS / Arch | INSTALL | BUILD | BUILD BIN | ||||||||||||
maskBAD 1.42.0 (landing page) Michael Dannemann
| kjohnson | macOS 13.0 Ventura / arm64 | OK | OK | OK | ![]() | |||||||||||
Package 8/8 | Hostname | OS / Arch | INSTALL | BUILD | BUILD BIN | ||||||||||||
webbioc 1.70.0 (landing page) Colin A. Smith
| kjohnson | macOS 13.0 Ventura / arm64 | OK | OK | OK | ![]() | |||||||||||