Package: gcrma Version: 2.70.0 Command: /Library/Frameworks/R.framework/Resources/bin/R CMD build --keep-empty-dirs --no-resave-data gcrma StartedAt: 2023-04-17 07:10:40 -0400 (Mon, 17 Apr 2023) EndedAt: 2023-04-17 07:11:01 -0400 (Mon, 17 Apr 2023) EllapsedTime: 21.2 seconds RetCode: 0 Status: OK PackageFile: gcrma_2.70.0.tar.gz PackageFileSize: 288.4 KiB