Package: geNetClassifier Version: 1.38.0 Command: rm -rf geNetClassifier.buildbin-libdir && mkdir geNetClassifier.buildbin-libdir && /Users/biocbuild/BBS/utils/build-universal.sh geNetClassifier_1.38.0.tar.gz /Library/Frameworks/R.framework/Resources/bin/R geNetClassifier.buildbin-libdir StartedAt: 2023-04-18 16:01:17 -0400 (Tue, 18 Apr 2023) EndedAt: 2023-04-18 16:01:42 -0400 (Tue, 18 Apr 2023) EllapsedTime: 25.5 seconds RetCode: 0 Status: OK PackageFile: geNetClassifier_1.38.0.tgz PackageFileSize: 3.227 MiB