Package: geNetClassifier Version: 1.38.0 Command: /Library/Frameworks/R.framework/Resources/bin/R CMD INSTALL geNetClassifier StartedAt: 2023-04-16 14:20:46 -0400 (Sun, 16 Apr 2023) EndedAt: 2023-04-16 14:21:02 -0400 (Sun, 16 Apr 2023) EllapsedTime: 16.3 seconds RetCode: 0 Status: OK