Package: geneXtendeR Version: 1.24.0 Command: rm -rf geneXtendeR.buildbin-libdir && mkdir geneXtendeR.buildbin-libdir && /Users/biocbuild/BBS/utils/build-universal.sh geneXtendeR_1.24.0.tar.gz /Library/Frameworks/R.framework/Resources/bin/R geneXtendeR.buildbin-libdir StartedAt: 2023-04-18 16:01:42 -0400 (Tue, 18 Apr 2023) EndedAt: 2023-04-18 16:03:43 -0400 (Tue, 18 Apr 2023) EllapsedTime: 120.9 seconds RetCode: 0 Status: OK PackageFile: geneXtendeR_1.24.0.tgz PackageFileSize: 8.51 MiB