Package: geneXtendeR Version: 1.24.0 Command: /Library/Frameworks/R.framework/Resources/bin/R CMD INSTALL geneXtendeR StartedAt: 2023-04-16 16:50:15 -0400 (Sun, 16 Apr 2023) EndedAt: 2023-04-16 16:51:44 -0400 (Sun, 16 Apr 2023) EllapsedTime: 90.0 seconds RetCode: 0 Status: OK