Package: gespeR Version: 1.30.0 Command: rm -rf gespeR.buildbin-libdir && mkdir gespeR.buildbin-libdir && /Users/biocbuild/BBS/utils/build-universal.sh gespeR_1.30.0.tar.gz /Library/Frameworks/R.framework/Resources/bin/R gespeR.buildbin-libdir StartedAt: 2023-04-18 16:08:48 -0400 (Tue, 18 Apr 2023) EndedAt: 2023-04-18 16:10:07 -0400 (Tue, 18 Apr 2023) EllapsedTime: 78.7 seconds RetCode: 0 Status: OK PackageFile: gespeR_1.30.0.tgz PackageFileSize: 2.818 MiB