Package: gespeR Version: 1.30.0 Command: /Library/Frameworks/R.framework/Resources/bin/R CMD build --keep-empty-dirs --no-resave-data gespeR StartedAt: 2023-04-17 07:59:02 -0400 (Mon, 17 Apr 2023) EndedAt: 2023-04-17 08:00:01 -0400 (Mon, 17 Apr 2023) EllapsedTime: 58.5 seconds RetCode: 0 Status: OK PackageFile: gespeR_1.30.0.tar.gz PackageFileSize: 24.33 MiB