Package: gespeR Version: 1.30.0 Command: /Library/Frameworks/R.framework/Resources/bin/R CMD INSTALL gespeR StartedAt: 2023-04-16 17:52:10 -0400 (Sun, 16 Apr 2023) EndedAt: 2023-04-16 17:53:03 -0400 (Sun, 16 Apr 2023) EllapsedTime: 52.7 seconds RetCode: 0 Status: OK