Package: ggtreeExtra
Version: 1.8.1
Command: /Library/Frameworks/R.framework/Resources/bin/R CMD INSTALL ggtreeExtra
StartedAt: 2023-04-16 15:20:13 -0400 (Sun, 16 Apr 2023)
EndedAt: 2023-04-16 15:20:25 -0400 (Sun, 16 Apr 2023)
EllapsedTime: 11.7 seconds
RetCode: 0
Status: OK