Package: gmoviz Version: 1.10.0 Command: /Library/Frameworks/R.framework/Resources/bin/R CMD build --keep-empty-dirs --no-resave-data gmoviz StartedAt: 2023-04-17 08:36:11 -0400 (Mon, 17 Apr 2023) EndedAt: 2023-04-17 08:38:16 -0400 (Mon, 17 Apr 2023) EllapsedTime: 124.5 seconds RetCode: 0 Status: OK PackageFile: gmoviz_1.10.0.tar.gz PackageFileSize: 4.266 MiB