Package: goProfiles Version: 1.60.0 Command: rm -rf goProfiles.buildbin-libdir && mkdir goProfiles.buildbin-libdir && /Users/biocbuild/BBS/utils/build-universal.sh goProfiles_1.60.0.tar.gz /Library/Frameworks/R.framework/Resources/bin/R goProfiles.buildbin-libdir StartedAt: 2023-04-18 16:13:53 -0400 (Tue, 18 Apr 2023) EndedAt: 2023-04-18 16:14:35 -0400 (Tue, 18 Apr 2023) EllapsedTime: 42.0 seconds RetCode: 0 Status: OK PackageFile: goProfiles_1.60.0.tgz PackageFileSize: 496.8 KiB