Package: goProfiles Version: 1.60.0 Command: /Library/Frameworks/R.framework/Resources/bin/R CMD build --keep-empty-dirs --no-resave-data goProfiles StartedAt: 2023-04-17 08:47:02 -0400 (Mon, 17 Apr 2023) EndedAt: 2023-04-17 08:47:54 -0400 (Mon, 17 Apr 2023) EllapsedTime: 52.4 seconds RetCode: 0 Status: OK PackageFile: goProfiles_1.60.0.tar.gz PackageFileSize: 288.6 KiB