Package: goProfiles Version: 1.60.0 Command: /Library/Frameworks/R.framework/Resources/bin/R CMD INSTALL goProfiles StartedAt: 2023-04-16 15:34:01 -0400 (Sun, 16 Apr 2023) EndedAt: 2023-04-16 15:34:28 -0400 (Sun, 16 Apr 2023) EllapsedTime: 26.9 seconds RetCode: 0 Status: OK