Package: graper Version: 1.14.2 Command: /Library/Frameworks/R.framework/Resources/bin/R CMD build --keep-empty-dirs --no-resave-data graper StartedAt: 2023-04-17 09:16:25 -0400 (Mon, 17 Apr 2023) EndedAt: 2023-04-17 09:17:46 -0400 (Mon, 17 Apr 2023) EllapsedTime: 81.0 seconds RetCode: 0 Status: OK PackageFile: graper_1.14.2.tar.gz PackageFileSize: 853.8 KiB