Package: gtrellis Version: 1.30.0 Command: /Library/Frameworks/R.framework/Resources/bin/R CMD INSTALL gtrellis StartedAt: 2023-04-16 14:41:58 -0400 (Sun, 16 Apr 2023) EndedAt: 2023-04-16 14:42:20 -0400 (Sun, 16 Apr 2023) EllapsedTime: 21.7 seconds RetCode: 0 Status: OK