Package: gwasurvivr Version: 1.16.0 Command: /Library/Frameworks/R.framework/Resources/bin/R CMD build --keep-empty-dirs --no-resave-data gwasurvivr StartedAt: 2023-04-17 09:53:08 -0400 (Mon, 17 Apr 2023) EndedAt: 2023-04-17 09:56:02 -0400 (Mon, 17 Apr 2023) EllapsedTime: 173.6 seconds RetCode: 0 Status: OK PackageFile: gwasurvivr_1.16.0.tar.gz PackageFileSize: 329.5 KiB