Package: gwasurvivr Version: 1.16.0 Command: /Library/Frameworks/R.framework/Resources/bin/R CMD INSTALL gwasurvivr StartedAt: 2023-04-16 16:31:05 -0400 (Sun, 16 Apr 2023) EndedAt: 2023-04-16 16:32:24 -0400 (Sun, 16 Apr 2023) EllapsedTime: 79.8 seconds RetCode: 0 Status: OK