git_url: https://git.bioconductor.org/packages/hermes git_branch: RELEASE_3_16 git_last_commit: e704cda git_last_commit_date: 2022-11-01 11:26:13 -0400 (Tue, 01 Nov 2022) Package: hermes Version: 1.2.0 Maintainer: Daniel Sabanés Bové MaintainerEmail: daniel.sabanes_bove at roche.com