Package: hermes Version: 1.2.0 Command: /Library/Frameworks/R.framework/Resources/bin/R CMD build --keep-empty-dirs --no-resave-data hermes StartedAt: 2023-04-17 10:03:32 -0400 (Mon, 17 Apr 2023) EndedAt: 2023-04-17 10:07:29 -0400 (Mon, 17 Apr 2023) EllapsedTime: 236.9 seconds RetCode: 0 Status: OK PackageFile: hermes_1.2.0.tar.gz PackageFileSize: 3.51 MiB