Package: hermes Version: 1.2.0 Command: /Library/Frameworks/R.framework/Resources/bin/R CMD INSTALL hermes StartedAt: 2023-04-16 18:16:26 -0400 (Sun, 16 Apr 2023) EndedAt: 2023-04-16 18:17:49 -0400 (Sun, 16 Apr 2023) EllapsedTime: 82.9 seconds RetCode: 0 Status: OK