Package: hiAnnotator Version: 1.32.0 Command: /Library/Frameworks/R.framework/Resources/bin/R CMD INSTALL hiAnnotator StartedAt: 2023-04-16 16:31:32 -0400 (Sun, 16 Apr 2023) EndedAt: 2023-04-16 16:32:34 -0400 (Sun, 16 Apr 2023) EllapsedTime: 61.4 seconds RetCode: 0 Status: OK