Package: hiReadsProcessor
Version: 1.34.0
Command: rm -rf hiReadsProcessor.buildbin-libdir && mkdir hiReadsProcessor.buildbin-libdir && /Users/biocbuild/BBS/utils/build-universal.sh hiReadsProcessor_1.34.0.tar.gz /Library/Frameworks/R.framework/Resources/bin/R hiReadsProcessor.buildbin-libdir
StartedAt: 2023-04-18 16:27:16 -0400 (Tue, 18 Apr 2023)
EndedAt: 2023-04-18 16:28:47 -0400 (Tue, 18 Apr 2023)
EllapsedTime: 90.3 seconds
RetCode: 0
Status: OK
PackageFile: hiReadsProcessor_1.34.0.tgz
PackageFileSize: 3 <A href="http://en.wikipedia.org/wiki/MiB" target="_blank">MiB</A>