Package: hiReadsProcessor Version: 1.34.0 Command: /Library/Frameworks/R.framework/Resources/bin/R CMD build --keep-empty-dirs --no-resave-data hiReadsProcessor StartedAt: 2023-04-17 10:27:02 -0400 (Mon, 17 Apr 2023) EndedAt: 2023-04-17 10:28:10 -0400 (Mon, 17 Apr 2023) EllapsedTime: 68.5 seconds RetCode: 0 Status: OK PackageFile: hiReadsProcessor_1.34.0.tar.gz PackageFileSize: 3.146 MiB