Package: hierinf
Version: 1.16.0
Command: /Library/Frameworks/R.framework/Resources/bin/R CMD INSTALL hierinf
StartedAt: 2023-04-16 14:15:39 -0400 (Sun, 16 Apr 2023)
EndedAt: 2023-04-16 14:15:44 -0400 (Sun, 16 Apr 2023)
EllapsedTime: 5.5 seconds
RetCode: 0
Status: OK