git_url: https://git.bioconductor.org/packages/iPAC git_branch: RELEASE_3_16 git_last_commit: bc96a8f git_last_commit_date: 2022-11-01 11:07:11 -0400 (Tue, 01 Nov 2022) Package: iPAC Version: 1.42.0 Maintainer: Gregory Ryslik MaintainerEmail: gregory.ryslik at yale.edu