Package: iPAC Version: 1.42.0 Command: /Library/Frameworks/R.framework/Resources/bin/R CMD build --keep-empty-dirs --no-resave-data iPAC StartedAt: 2023-04-17 11:36:50 -0400 (Mon, 17 Apr 2023) EndedAt: 2023-04-17 11:37:20 -0400 (Mon, 17 Apr 2023) EllapsedTime: 30.0 seconds RetCode: 0 Status: OK PackageFile: iPAC_1.42.0.tar.gz PackageFileSize: 618.8 KiB