Package: iSeq Version: 1.50.0 Command: rm -rf iSeq.buildbin-libdir && mkdir iSeq.buildbin-libdir && /Users/biocbuild/BBS/utils/build-universal.sh iSeq_1.50.0.tar.gz /Library/Frameworks/R.framework/Resources/bin/R iSeq.buildbin-libdir StartedAt: 2023-04-18 16:42:18 -0400 (Tue, 18 Apr 2023) EndedAt: 2023-04-18 16:42:29 -0400 (Tue, 18 Apr 2023) EllapsedTime: 11.0 seconds RetCode: 0 Status: OK PackageFile: iSeq_1.50.0.tgz PackageFileSize: 1.698 MiB