Package: idr2d
Version: 1.12.0
Command: /Library/Frameworks/R.framework/Resources/bin/R CMD INSTALL idr2d
StartedAt: 2023-04-16 14:40:29 -0400 (Sun, 16 Apr 2023)
EndedAt: 2023-04-16 14:40:57 -0400 (Sun, 16 Apr 2023)
EllapsedTime: 28.6 seconds
RetCode: 0
Status: OK