Package: igvR Version: 1.18.1 Command: /Library/Frameworks/R.framework/Resources/bin/R CMD build --keep-empty-dirs --no-resave-data igvR StartedAt: 2023-04-17 10:54:07 -0400 (Mon, 17 Apr 2023) EndedAt: 2023-04-17 10:55:20 -0400 (Mon, 17 Apr 2023) EllapsedTime: 73.1 seconds RetCode: 0 Status: OK PackageFile: igvR_1.18.1.tar.gz PackageFileSize: 8.305 MiB