Package: infercnv Version: 1.14.2 Command: /Library/Frameworks/R.framework/Resources/bin/R CMD build --keep-empty-dirs --no-resave-data infercnv StartedAt: 2023-04-17 11:13:29 -0400 (Mon, 17 Apr 2023) EndedAt: 2023-04-17 11:15:40 -0400 (Mon, 17 Apr 2023) EllapsedTime: 131.1 seconds RetCode: 0 Status: OK PackageFile: infercnv_1.14.2.tar.gz PackageFileSize: 3.934 MiB