Package: interactiveDisplay Version: 1.36.0 Command: /Library/Frameworks/R.framework/Resources/bin/R CMD INSTALL interactiveDisplay StartedAt: 2023-04-16 17:51:26 -0400 (Sun, 16 Apr 2023) EndedAt: 2023-04-16 17:52:10 -0400 (Sun, 16 Apr 2023) EllapsedTime: 44.0 seconds RetCode: 0 Status: OK