git_url: https://git.bioconductor.org/packages/isobar git_branch: RELEASE_3_16 git_last_commit: 87ee415 git_last_commit_date: 2022-11-01 11:06:26 -0400 (Tue, 01 Nov 2022) Package: isobar Version: 1.44.0 Maintainer: Florian P Breitwieser MaintainerEmail: florian.bw at gmail.com