Package: ivygapSE Version: 1.20.0 Command: rm -rf ivygapSE.buildbin-libdir && mkdir ivygapSE.buildbin-libdir && /Users/biocbuild/BBS/utils/build-universal.sh ivygapSE_1.20.0.tar.gz /Library/Frameworks/R.framework/Resources/bin/R ivygapSE.buildbin-libdir StartedAt: 2023-04-18 16:44:17 -0400 (Tue, 18 Apr 2023) EndedAt: 2023-04-18 16:45:28 -0400 (Tue, 18 Apr 2023) EllapsedTime: 70.6 seconds RetCode: 0 Status: OK PackageFile: ivygapSE_1.20.0.tgz PackageFileSize: 15.33 MiB